BEGIN:VCALENDAR
VERSION:2.0
PRODID:-//Cobb Institute - ECPv6.15.17.1//NONSGML v1.0//EN
CALSCALE:GREGORIAN
METHOD:PUBLISH
X-ORIGINAL-URL:https://cobb.institute
X-WR-CALDESC:Events for Cobb Institute
REFRESH-INTERVAL;VALUE=DURATION:PT1H
X-Robots-Tag:noindex
X-PUBLISHED-TTL:PT1H
BEGIN:VTIMEZONE
TZID:America/Los_Angeles
BEGIN:DAYLIGHT
TZOFFSETFROM:-0800
TZOFFSETTO:-0700
TZNAME:PDT
DTSTART:20180311T100000
END:DAYLIGHT
BEGIN:STANDARD
TZOFFSETFROM:-0700
TZOFFSETTO:-0800
TZNAME:PST
DTSTART:20181104T090000
END:STANDARD
BEGIN:DAYLIGHT
TZOFFSETFROM:-0800
TZOFFSETTO:-0700
TZNAME:PDT
DTSTART:20190310T100000
END:DAYLIGHT
BEGIN:STANDARD
TZOFFSETFROM:-0700
TZOFFSETTO:-0800
TZNAME:PST
DTSTART:20191103T090000
END:STANDARD
BEGIN:DAYLIGHT
TZOFFSETFROM:-0800
TZOFFSETTO:-0700
TZNAME:PDT
DTSTART:20200308T100000
END:DAYLIGHT
BEGIN:STANDARD
TZOFFSETFROM:-0700
TZOFFSETTO:-0800
TZNAME:PST
DTSTART:20201101T090000
END:STANDARD
END:VTIMEZONE
BEGIN:VEVENT
DTSTART;TZID=America/Los_Angeles:20190319T120000
DTEND;TZID=America/Los_Angeles:20190319T130000
DTSTAMP:20260422T124230
CREATED:20190301T092145Z
LAST-MODIFIED:20190308T062635Z
UID:10000041-1552996800-1553000400@cobb.institute
SUMMARY:Launch Party
DESCRIPTION:LAUNCH PARTY\nWant to learn about this new organization and ways that you can get involved?\nJoin John Cobb and friends a the Launch Party for the new Claremont Institute for Process Studies.\nHere’s an Invitation Letter from John B. Cobb\, Jr.\nCheck out our list of Programs & Interests
URL:https://cobb.institute/event/launch-party/
LOCATION:Napier Common Room\, 670 Avery Road\, Claremont\, CA\, 91711\, United States
GEO:34.099169;-117.7240722
X-APPLE-STRUCTURED-LOCATION;VALUE=URI;X-ADDRESS=Napier Common Room 670 Avery Road Claremont CA 91711 United States;X-APPLE-RADIUS=500;X-TITLE=670 Avery Road:geo:-117.7240722,34.099169
END:VEVENT
END:VCALENDAR