BEGIN:VCALENDAR
VERSION:2.0
PRODID:-//Cobb Institute - ECPv6.15.17.1//NONSGML v1.0//EN
CALSCALE:GREGORIAN
METHOD:PUBLISH
X-WR-CALNAME:Cobb Institute
X-ORIGINAL-URL:https://cobb.institute
X-WR-CALDESC:Events for Cobb Institute
REFRESH-INTERVAL;VALUE=DURATION:PT1H
X-Robots-Tag:noindex
X-PUBLISHED-TTL:PT1H
BEGIN:VTIMEZONE
TZID:America/Los_Angeles
BEGIN:DAYLIGHT
TZOFFSETFROM:-0800
TZOFFSETTO:-0700
TZNAME:PDT
DTSTART:20190310T100000
END:DAYLIGHT
BEGIN:STANDARD
TZOFFSETFROM:-0700
TZOFFSETTO:-0800
TZNAME:PST
DTSTART:20191103T090000
END:STANDARD
BEGIN:DAYLIGHT
TZOFFSETFROM:-0800
TZOFFSETTO:-0700
TZNAME:PDT
DTSTART:20200308T100000
END:DAYLIGHT
BEGIN:STANDARD
TZOFFSETFROM:-0700
TZOFFSETTO:-0800
TZNAME:PST
DTSTART:20201101T090000
END:STANDARD
BEGIN:DAYLIGHT
TZOFFSETFROM:-0800
TZOFFSETTO:-0700
TZNAME:PDT
DTSTART:20210314T100000
END:DAYLIGHT
BEGIN:STANDARD
TZOFFSETFROM:-0700
TZOFFSETTO:-0800
TZNAME:PST
DTSTART:20211107T090000
END:STANDARD
END:VTIMEZONE
BEGIN:VEVENT
DTSTART;TZID=America/Los_Angeles:20200208T093000
DTEND;TZID=America/Los_Angeles:20200208T113000
DTSTAMP:20260419T173906
CREATED:20200131T054728Z
LAST-MODIFIED:20200521T044126Z
UID:10000054-1581154200-1581161400@cobb.institute
SUMMARY:Process for the People
DESCRIPTION:The Reverend Dr. Bruce Epperly is visiting Claremont in February\, and has offered to meet with us to discuss “Process for the People\,” or how to translate process thought for those who are less scholarly.\nContact us if you have any questions.
URL:https://cobb.institute/event/process-for-the-people/
LOCATION:Porter Hall\, 601 Mayflower Road\, Claremont\, CA\, 91711\, United States
ATTACH;FMTTYPE=image/jpeg:https://cobb.institute/wp-content/uploads/2020/01/PFP-Featured-Image.jpg
GEO:34.09945;-117.7235603
X-APPLE-STRUCTURED-LOCATION;VALUE=URI;X-ADDRESS=Porter Hall 601 Mayflower Road Claremont CA 91711 United States;X-APPLE-RADIUS=500;X-TITLE=601 Mayflower Road:geo:-117.7235603,34.09945
END:VEVENT
END:VCALENDAR