BEGIN:VCALENDAR
VERSION:2.0
PRODID:-//Cobb Institute - ECPv6.15.17.1//NONSGML v1.0//EN
CALSCALE:GREGORIAN
METHOD:PUBLISH
X-WR-CALNAME:Cobb Institute
X-ORIGINAL-URL:https://cobb.institute
X-WR-CALDESC:Events for Cobb Institute
REFRESH-INTERVAL;VALUE=DURATION:PT1H
X-Robots-Tag:noindex
X-PUBLISHED-TTL:PT1H
BEGIN:VTIMEZONE
TZID:America/Los_Angeles
BEGIN:DAYLIGHT
TZOFFSETFROM:-0800
TZOFFSETTO:-0700
TZNAME:PDT
DTSTART:20190310T100000
END:DAYLIGHT
BEGIN:STANDARD
TZOFFSETFROM:-0700
TZOFFSETTO:-0800
TZNAME:PST
DTSTART:20191103T090000
END:STANDARD
BEGIN:DAYLIGHT
TZOFFSETFROM:-0800
TZOFFSETTO:-0700
TZNAME:PDT
DTSTART:20200308T100000
END:DAYLIGHT
BEGIN:STANDARD
TZOFFSETFROM:-0700
TZOFFSETTO:-0800
TZNAME:PST
DTSTART:20201101T090000
END:STANDARD
BEGIN:DAYLIGHT
TZOFFSETFROM:-0800
TZOFFSETTO:-0700
TZNAME:PDT
DTSTART:20210314T100000
END:DAYLIGHT
BEGIN:STANDARD
TZOFFSETFROM:-0700
TZOFFSETTO:-0800
TZNAME:PST
DTSTART:20211107T090000
END:STANDARD
END:VTIMEZONE
BEGIN:VEVENT
DTSTART;TZID=America/Los_Angeles:20200514T090000
DTEND;TZID=America/Los_Angeles:20200514T110000
DTSTAMP:20260421T175444
CREATED:20200514T033402Z
LAST-MODIFIED:20200521T044117Z
UID:10000055-1589446800-1589454000@cobb.institute
SUMMARY:The Path Forward
DESCRIPTION:The Cobb Institute’s Jay McDaniel and Elaine Padilla will join Rabbi Bradley Artson and Sophia Said for an interfaith conversation about personal and social vitality in a time of chaos. You can watch for free at The Interfaith Center’s Youtube channel. \n  \n 
URL:https://cobb.institute/event/the-path-forward/
ATTACH;FMTTYPE=image/jpeg:https://cobb.institute/wp-content/uploads/2020/05/Path-Forward.jpg
END:VEVENT
END:VCALENDAR