BEGIN:VCALENDAR
VERSION:2.0
PRODID:-//Cobb Institute - ECPv6.15.17.1//NONSGML v1.0//EN
CALSCALE:GREGORIAN
METHOD:PUBLISH
X-WR-CALNAME:Cobb Institute
X-ORIGINAL-URL:https://cobb.institute
X-WR-CALDESC:Events for Cobb Institute
REFRESH-INTERVAL;VALUE=DURATION:PT1H
X-Robots-Tag:noindex
X-PUBLISHED-TTL:PT1H
BEGIN:VTIMEZONE
TZID:America/Los_Angeles
BEGIN:DAYLIGHT
TZOFFSETFROM:-0800
TZOFFSETTO:-0700
TZNAME:PDT
DTSTART:20190310T100000
END:DAYLIGHT
BEGIN:STANDARD
TZOFFSETFROM:-0700
TZOFFSETTO:-0800
TZNAME:PST
DTSTART:20191103T090000
END:STANDARD
BEGIN:DAYLIGHT
TZOFFSETFROM:-0800
TZOFFSETTO:-0700
TZNAME:PDT
DTSTART:20200308T100000
END:DAYLIGHT
BEGIN:STANDARD
TZOFFSETFROM:-0700
TZOFFSETTO:-0800
TZNAME:PST
DTSTART:20201101T090000
END:STANDARD
BEGIN:DAYLIGHT
TZOFFSETFROM:-0800
TZOFFSETTO:-0700
TZNAME:PDT
DTSTART:20210314T100000
END:DAYLIGHT
BEGIN:STANDARD
TZOFFSETFROM:-0700
TZOFFSETTO:-0800
TZNAME:PST
DTSTART:20211107T090000
END:STANDARD
END:VTIMEZONE
BEGIN:VEVENT
DTSTART;TZID=America/Los_Angeles:20200519T100000
DTEND;TZID=America/Los_Angeles:20200519T120000
DTSTAMP:20260421T151900
CREATED:20200518T225447Z
LAST-MODIFIED:20220216T172530Z
UID:10000056-1589882400-1589889600@cobb.institute
SUMMARY:John Cobb & Friends Gathering - Andrew Schwartz
DESCRIPTION:Topic: “Learning with Whitehead: A Process Philosophy of Education for an Ecological Civilization” \nPresenter: Andrew Schwartz \nInformation about how to access the meeting is made available in the email announcements. If you would like to be added to our email list and receive meeting announcements\, as well as updates about the Institute\, please click here.
URL:https://cobb.institute/event/john-cobb-friends-gathering-5-19-20/
LOCATION:Online Event
CATEGORIES:Cobb & Friends
ATTACH;FMTTYPE=image/jpeg:https://cobb.institute/wp-content/uploads/2020/05/Cobb-Friends-featured-image.jpg
END:VEVENT
END:VCALENDAR