BEGIN:VCALENDAR
VERSION:2.0
PRODID:-//Cobb Institute - ECPv6.15.17.1//NONSGML v1.0//EN
CALSCALE:GREGORIAN
METHOD:PUBLISH
X-WR-CALNAME:Cobb Institute
X-ORIGINAL-URL:https://cobb.institute
X-WR-CALDESC:Events for Cobb Institute
REFRESH-INTERVAL;VALUE=DURATION:PT1H
X-Robots-Tag:noindex
X-PUBLISHED-TTL:PT1H
BEGIN:VTIMEZONE
TZID:America/Los_Angeles
BEGIN:DAYLIGHT
TZOFFSETFROM:-0800
TZOFFSETTO:-0700
TZNAME:PDT
DTSTART:20190310T100000
END:DAYLIGHT
BEGIN:STANDARD
TZOFFSETFROM:-0700
TZOFFSETTO:-0800
TZNAME:PST
DTSTART:20191103T090000
END:STANDARD
BEGIN:DAYLIGHT
TZOFFSETFROM:-0800
TZOFFSETTO:-0700
TZNAME:PDT
DTSTART:20200308T100000
END:DAYLIGHT
BEGIN:STANDARD
TZOFFSETFROM:-0700
TZOFFSETTO:-0800
TZNAME:PST
DTSTART:20201101T090000
END:STANDARD
BEGIN:DAYLIGHT
TZOFFSETFROM:-0800
TZOFFSETTO:-0700
TZNAME:PDT
DTSTART:20210314T100000
END:DAYLIGHT
BEGIN:STANDARD
TZOFFSETFROM:-0700
TZOFFSETTO:-0800
TZNAME:PST
DTSTART:20211107T090000
END:STANDARD
END:VTIMEZONE
BEGIN:VEVENT
DTSTART;TZID=America/Los_Angeles:20200922T100000
DTEND;TZID=America/Los_Angeles:20200922T120000
DTSTAMP:20260423T131407
CREATED:20200916T231931Z
LAST-MODIFIED:20220216T173924Z
UID:10000086-1600768800-1600776000@cobb.institute
SUMMARY:John Cobb & Friends Gathering - Don Viney
DESCRIPTION:Topic: Omnipotence and Other Theological Mistakes: The Mind of Charles Hartshorne \n\n\n\nPresenter(s): Don Viney\, Professor of Philosophy at Pittsburgh State University\, and co-author of The Mind of Charles Hartshorne: A Critical Examination. \n\n\n\nInformation about how to access the gathering are made available via email. To find out about a single meeting\, send an email to events@cobb.institute. If you would like to be added to our email list to receive regular meeting announcements and updates about the Institute\, please click here.
URL:https://cobb.institute/event/john-cobb-friends-gathering-2020-09-22/
LOCATION:Online Event
CATEGORIES:Cobb & Friends
ATTACH;FMTTYPE=image/jpeg:https://cobb.institute/wp-content/uploads/2020/05/Cobb-Friends-featured-image.jpg
ORGANIZER;CN="Cobb Institute":MAILTO:events@cobb.institute
END:VEVENT
END:VCALENDAR