BEGIN:VCALENDAR
VERSION:2.0
PRODID:-//Cobb Institute - ECPv6.15.17.1//NONSGML v1.0//EN
CALSCALE:GREGORIAN
METHOD:PUBLISH
X-ORIGINAL-URL:https://cobb.institute
X-WR-CALDESC:Events for Cobb Institute
REFRESH-INTERVAL;VALUE=DURATION:PT1H
X-Robots-Tag:noindex
X-PUBLISHED-TTL:PT1H
BEGIN:VTIMEZONE
TZID:America/Los_Angeles
BEGIN:DAYLIGHT
TZOFFSETFROM:-0800
TZOFFSETTO:-0700
TZNAME:PDT
DTSTART:20190310T100000
END:DAYLIGHT
BEGIN:STANDARD
TZOFFSETFROM:-0700
TZOFFSETTO:-0800
TZNAME:PST
DTSTART:20191103T090000
END:STANDARD
BEGIN:DAYLIGHT
TZOFFSETFROM:-0800
TZOFFSETTO:-0700
TZNAME:PDT
DTSTART:20200308T100000
END:DAYLIGHT
BEGIN:STANDARD
TZOFFSETFROM:-0700
TZOFFSETTO:-0800
TZNAME:PST
DTSTART:20201101T090000
END:STANDARD
BEGIN:DAYLIGHT
TZOFFSETFROM:-0800
TZOFFSETTO:-0700
TZNAME:PDT
DTSTART:20210314T100000
END:DAYLIGHT
BEGIN:STANDARD
TZOFFSETFROM:-0700
TZOFFSETTO:-0800
TZNAME:PST
DTSTART:20211107T090000
END:STANDARD
END:VTIMEZONE
BEGIN:VEVENT
DTSTART;TZID=America/Los_Angeles:20201011T150000
DTEND;TZID=America/Los_Angeles:20201011T163000
DTSTAMP:20260423T220455
CREATED:20201006T214549Z
LAST-MODIFIED:20201008T215046Z
UID:10000094-1602428400-1602433800@cobb.institute
SUMMARY:Celebrating John Cobb's New Book
DESCRIPTION:Jesus’s Mission and Ours\n\n\n\nIn John’s previous 50 books he did not say all he’d like to about Jesus and about his experiences in China in behalf of Ecological Civilization. So here’s what he wants to share in what may be his “last book.” \n\n\n\n“To follow Jesus today is to adopt the most inclusive mission in our day. That is\, to save the world from the self-destruction on which it now seems bent.” \n\n\n\nJohn invites you to join him and Ron Hines\, David Lull\, Jane Douglass\, Pat Beiting\, and Pilgrim neighbors to explore his message\, which includes some of the following: \n\n\n\nJesus’ Understanding of SalvationThe Fading of Historical ConsciousnessSo\, What Is Our Mission Now?Deconstructing American Self-UnderstandingHow Ecological Civilization is PossibleCan God Help?\n\n\n\n\n\nWhen\n\n\n\n\n\n\n\n\n\n\n\nWhere\n\n\n\n\n\nOnline Zoom Meeting\n\n\n\n \n\n\n\n\n\nTo receive event access information contact us via our online form or an send an email to events@cobb.institute.
URL:https://cobb.institute/event/celebrating-john-cobbs-new-book/
ATTACH;FMTTYPE=image/jpeg:https://cobb.institute/wp-content/uploads/2020/10/2020-10-11-Cobb-Book-Party-Flyer-crop.jpg
END:VEVENT
END:VCALENDAR