BEGIN:VCALENDAR
VERSION:2.0
PRODID:-//Cobb Institute - ECPv6.15.17.1//NONSGML v1.0//EN
CALSCALE:GREGORIAN
METHOD:PUBLISH
X-ORIGINAL-URL:https://cobb.institute
X-WR-CALDESC:Events for Cobb Institute
REFRESH-INTERVAL;VALUE=DURATION:PT1H
X-Robots-Tag:noindex
X-PUBLISHED-TTL:PT1H
BEGIN:VTIMEZONE
TZID:America/Los_Angeles
BEGIN:DAYLIGHT
TZOFFSETFROM:-0800
TZOFFSETTO:-0700
TZNAME:PDT
DTSTART:20200308T100000
END:DAYLIGHT
BEGIN:STANDARD
TZOFFSETFROM:-0700
TZOFFSETTO:-0800
TZNAME:PST
DTSTART:20201101T090000
END:STANDARD
BEGIN:DAYLIGHT
TZOFFSETFROM:-0800
TZOFFSETTO:-0700
TZNAME:PDT
DTSTART:20210314T100000
END:DAYLIGHT
BEGIN:STANDARD
TZOFFSETFROM:-0700
TZOFFSETTO:-0800
TZNAME:PST
DTSTART:20211107T090000
END:STANDARD
BEGIN:DAYLIGHT
TZOFFSETFROM:-0800
TZOFFSETTO:-0700
TZNAME:PDT
DTSTART:20220313T100000
END:DAYLIGHT
BEGIN:STANDARD
TZOFFSETFROM:-0700
TZOFFSETTO:-0800
TZNAME:PST
DTSTART:20221106T090000
END:STANDARD
END:VTIMEZONE
BEGIN:VEVENT
DTSTART;TZID=America/Los_Angeles:20210117T110000
DTEND;TZID=America/Los_Angeles:20210117T120000
DTSTAMP:20260425T062309
CREATED:20210105T181839Z
LAST-MODIFIED:20210105T182835Z
UID:10000099-1610881200-1610884800@cobb.institute
SUMMARY:Jesus's Mission and Ours
DESCRIPTION:“Jesus’s Mission and Ours” is the theme of a series of conversations that will take place each Sunday from January 10 through February 14\, 11:00 a.m. to noon\, featuring John Cobb. The series is being sponsored and hosted by John’s church community\, Claremont United Methodist Church. Each conversation will focus on a portion of his most recent book\, Salvation\, and will be facilitated by Ron Hines. \n\n\n\nTOPIC FOR JANUARY 17th: Can Jesus’s Heirs Create a Saving Counterculture? (chapters 2\, 3\, 4) \n\n\n\nJesus announced the basileia theou (divine commonwealth) in his mission to save his people from Rome and from their own proclivity to violence. To follow Jesus today is to adopt the most inclusive mission in our day—“to save the world from the self-destruction on which it now seems bent.” John is frank about the dilemmas in freeing American self-understanding from its “Christianism” and “modern” metaphysics. He likens Jesus’s mission to today’s invitation to an “ecological civilization\,” which is called for in the constitution of China\, and he celebrates the emergence of “communities of communities” and “ecological economics.” The book summarizes a lifetime of reflection by this eminent scholar in our midst\, and gives insight into his current popularity in China. \n\n\n\n\n\n\n\n\n\n\n\n\n\n\n\nPurchase the book using the link here\, and the Cobb Institute will receive a small percentage of the revenue. \n\n\n\n\n\n\n\n\n\nRSVP to receive Zoom Information
URL:https://cobb.institute/event/jesuss-mission-and-ours-2021-01-17/
ATTACH;FMTTYPE=image/png:https://cobb.institute/wp-content/uploads/2021/01/Jesuss-Mission-and-Ours.png
END:VEVENT
END:VCALENDAR