BEGIN:VCALENDAR
VERSION:2.0
PRODID:-//Cobb Institute - ECPv6.15.17.1//NONSGML v1.0//EN
CALSCALE:GREGORIAN
METHOD:PUBLISH
X-ORIGINAL-URL:https://cobb.institute
X-WR-CALDESC:Events for Cobb Institute
REFRESH-INTERVAL;VALUE=DURATION:PT1H
X-Robots-Tag:noindex
X-PUBLISHED-TTL:PT1H
BEGIN:VTIMEZONE
TZID:America/Los_Angeles
BEGIN:DAYLIGHT
TZOFFSETFROM:-0800
TZOFFSETTO:-0700
TZNAME:PDT
DTSTART:20240310T100000
END:DAYLIGHT
BEGIN:STANDARD
TZOFFSETFROM:-0700
TZOFFSETTO:-0800
TZNAME:PST
DTSTART:20241103T090000
END:STANDARD
BEGIN:DAYLIGHT
TZOFFSETFROM:-0800
TZOFFSETTO:-0700
TZNAME:PDT
DTSTART:20250309T100000
END:DAYLIGHT
BEGIN:STANDARD
TZOFFSETFROM:-0700
TZOFFSETTO:-0800
TZNAME:PST
DTSTART:20251102T090000
END:STANDARD
BEGIN:DAYLIGHT
TZOFFSETFROM:-0800
TZOFFSETTO:-0700
TZNAME:PDT
DTSTART:20260308T100000
END:DAYLIGHT
BEGIN:STANDARD
TZOFFSETFROM:-0700
TZOFFSETTO:-0800
TZNAME:PST
DTSTART:20261101T090000
END:STANDARD
END:VTIMEZONE
BEGIN:VEVENT
DTSTART;TZID=America/Los_Angeles:20250318T100000
DTEND;TZID=America/Los_Angeles:20250318T120000
DTSTAMP:20260422T221817
CREATED:20250311T053629Z
LAST-MODIFIED:20250313T170414Z
UID:10001124-1742292000-1742299200@cobb.institute
SUMMARY:Process Explorations: Jared Morningstar
DESCRIPTION:Topic: The Practice\, Spirituality\, and History of Ramadan \n\n\n\nPresenter(s): Jared Morningstar \n\n\n\nIn this session of Process Explorations\, Jared Morningstar will introduce the Islamic holiday of Ramadan. Jared will share his own experiences of the spiritual and physical practices central to this holiday\, dwelling on the ways that this month of fasting offers opportunities for connecting more deeply with Muslim community\, the natural world\, and the Divine. He will also share the origins and the history of Ramadan\, drawing connections with other religious communities and practices. \n\n\n\nRather than just introducing the basic features of this central Islamic practice\, Jared will draw connections between aspects of Ramadan and central values and themes present in process thought. Through presenting Ramadan from both personal and academic perspectives\, Jared hopes to share insights and make connections that may be taken up by Muslims and non-Muslims alike and carried forward long after Ramadan 2025 has concluded. \n\n\n\nAbout the Presenter(s) \n\n\n\n\n\n\n\n\nJared is an independent scholar living in Madison\, Wisconsin with academic interests in philosophy of religion\, Islamic studies\, comparative religion\, metamodern spirituality\, and interfaith dialogue. His work in these areas seeks to offer robust responses to issues of inter-religious conflict\, contemporary nihilism\, and the “meaning crisis\,” among other things. Jared graduated from Gustavus Adolphus College in 2018 with degrees in religion and Scandinavian studies and currently works for the Center for Process Studies\, the Cobb Institute\, and the Psychedelic Medicine Association. \n\n\n\n\n\n\n\n\n\n\n\n\n\n\n\n\n\n\nTo receive the Zoom info for this gathering\, click the Going button and enter your name and email. \n\n\n\n\n\n\n\n\n\nIf you experience any difficulty with the RSVP\, please send an email to events@cobb.institute. If you would like to receive regular announcements and updates about activities and events at the Cobb Institute\, please join our list of Friends. Can’t make it to the live session? Click here to access our recordings archive.
URL:https://cobb.institute/event/process-explorations-2025-03-18/
LOCATION:Online Via Zoom
CATEGORIES:Process Explorations
ATTACH;FMTTYPE=image/png:https://cobb.institute/wp-content/uploads/2025/03/Process-Explorations-header-purple.png
ORGANIZER;CN="Cobb Institute":MAILTO:events@cobb.institute
END:VEVENT
END:VCALENDAR