BEGIN:VCALENDAR
VERSION:2.0
PRODID:-//Cobb Institute - ECPv6.15.17.1//NONSGML v1.0//EN
CALSCALE:GREGORIAN
METHOD:PUBLISH
X-WR-CALNAME:Cobb Institute
X-ORIGINAL-URL:https://cobb.institute
X-WR-CALDESC:Events for Cobb Institute
REFRESH-INTERVAL;VALUE=DURATION:PT1H
X-Robots-Tag:noindex
X-PUBLISHED-TTL:PT1H
BEGIN:VTIMEZONE
TZID:America/Los_Angeles
BEGIN:DAYLIGHT
TZOFFSETFROM:-0800
TZOFFSETTO:-0700
TZNAME:PDT
DTSTART:20180311T100000
END:DAYLIGHT
BEGIN:STANDARD
TZOFFSETFROM:-0700
TZOFFSETTO:-0800
TZNAME:PST
DTSTART:20181104T090000
END:STANDARD
BEGIN:DAYLIGHT
TZOFFSETFROM:-0800
TZOFFSETTO:-0700
TZNAME:PDT
DTSTART:20190310T100000
END:DAYLIGHT
BEGIN:STANDARD
TZOFFSETFROM:-0700
TZOFFSETTO:-0800
TZNAME:PST
DTSTART:20191103T090000
END:STANDARD
BEGIN:DAYLIGHT
TZOFFSETFROM:-0800
TZOFFSETTO:-0700
TZNAME:PDT
DTSTART:20200308T100000
END:DAYLIGHT
BEGIN:STANDARD
TZOFFSETFROM:-0700
TZOFFSETTO:-0800
TZNAME:PST
DTSTART:20201101T090000
END:STANDARD
END:VTIMEZONE
BEGIN:VEVENT
DTSTART;TZID=America/Los_Angeles:20191221T010000
DTEND;TZID=America/Los_Angeles:20191221T030000
DTSTAMP:20260421T152024
CREATED:20190913T041816Z
LAST-MODIFIED:20200521T044138Z
UID:10000052-1576890000-1576897200@cobb.institute
SUMMARY:Healthy Future or Planetary Catastrophe? Week 10
DESCRIPTION:Our Learning Lab officially opens in October\, beginning with a course by Dr. John B. Cobb\, Jr.\n\nEntitled “Healthy Future or Planetary Catastrophe? Might Process Philosophy Help?”\, the course will critically examine our current condition and constructively propose an alternative for the future\, informed primarily by the philosophy of Alfred North Whitehead.\n\nWeek 10 Topic: The Primacy of Love\n\nRegister before September 30th to receive 15% off the regular price. In-person and Online options available. In-class registration is limited to 30 seats\, so reserve your spot today!
URL:https://cobb.institute/event/healthy-future-or-planetary-catastrophe-week-10/
LOCATION:Middle Tree\, 250 W 1st St. #210\, Claremont\, 91711\, United States
ATTACH;FMTTYPE=image/jpeg:https://cobb.institute/wp-content/uploads/2019/08/featured_image-HFPC_course.jpg
GEO:34.094139;-117.7179091
X-APPLE-STRUCTURED-LOCATION;VALUE=URI;X-ADDRESS=Middle Tree 250 W 1st St. #210 Claremont 91711 United States;X-APPLE-RADIUS=500;X-TITLE=250 W 1st St. #210:geo:-117.7179091,34.094139
END:VEVENT
BEGIN:VEVENT
DTSTART;TZID=America/Los_Angeles:20191214T010000
DTEND;TZID=America/Los_Angeles:20191214T030000
DTSTAMP:20260421T152024
CREATED:20190913T041607Z
LAST-MODIFIED:20200521T044131Z
UID:10000051-1576285200-1576292400@cobb.institute
SUMMARY:Healthy Future or Planetary Catastrophe? Week 9
DESCRIPTION:Our Learning Lab officially opens in October\, beginning with a course by Dr. John B. Cobb\, Jr. \nEntitled “Healthy Future or Planetary Catastrophe? Might Process Philosophy Help?”\, the course will critically examine our current condition and constructively propose an alternative for the future\, informed primarily by the philosophy of Alfred North Whitehead. \nWeek 9 Topic: Radical Religious Pluralism \nRegister now and reserve your spot today!
URL:https://cobb.institute/event/healthy-future-or-planetary-catastrophe-week-9/
LOCATION:Middle Tree\, 250 W 1st St. #210\, Claremont\, 91711\, United States
ATTACH;FMTTYPE=image/jpeg:https://cobb.institute/wp-content/uploads/2019/08/featured_image-HFPC_course.jpg
GEO:34.094139;-117.7179091
X-APPLE-STRUCTURED-LOCATION;VALUE=URI;X-ADDRESS=Middle Tree 250 W 1st St. #210 Claremont 91711 United States;X-APPLE-RADIUS=500;X-TITLE=250 W 1st St. #210:geo:-117.7179091,34.094139
END:VEVENT
BEGIN:VEVENT
DTSTART;TZID=America/Los_Angeles:20191207T010000
DTEND;TZID=America/Los_Angeles:20191207T030000
DTSTAMP:20260421T152024
CREATED:20190913T041456Z
LAST-MODIFIED:20200521T044145Z
UID:10000050-1575680400-1575687600@cobb.institute
SUMMARY:Healthy Future or Planetary Catastrophe? Week 8
DESCRIPTION:Our Learning Lab officially opens in October\, beginning with a course by Dr. John B. Cobb\, Jr. \nEntitled “Healthy Future or Planetary Catastrophe? Might Process Philosophy Help?”\, the course will critically examine our current condition and constructively propose an alternative for the future\, informed primarily by the philosophy of Alfred North Whitehead. \nWeek 8 Topic: God and Idolatry \nRegister now and reserve your spot today!
URL:https://cobb.institute/event/healthy-future-or-planetary-catastrophe-week-8/
LOCATION:Middle Tree\, 250 W 1st St. #210\, Claremont\, 91711\, United States
ATTACH;FMTTYPE=image/jpeg:https://cobb.institute/wp-content/uploads/2019/08/featured_image-HFPC_course.jpg
GEO:34.094139;-117.7179091
X-APPLE-STRUCTURED-LOCATION;VALUE=URI;X-ADDRESS=Middle Tree 250 W 1st St. #210 Claremont 91711 United States;X-APPLE-RADIUS=500;X-TITLE=250 W 1st St. #210:geo:-117.7179091,34.094139
END:VEVENT
BEGIN:VEVENT
DTSTART;TZID=America/Los_Angeles:20191130T010000
DTEND;TZID=America/Los_Angeles:20191130T030000
DTSTAMP:20260421T152024
CREATED:20190913T041327Z
LAST-MODIFIED:20200521T044150Z
UID:10000049-1575075600-1575082800@cobb.institute
SUMMARY:Healthy Future or Planetary Catastrophe? Week 7
DESCRIPTION:Our Learning Lab officially opens in October\, beginning with a course by Dr. John B. Cobb\, Jr. \nEntitled “Healthy Future or Planetary Catastrophe? Might Process Philosophy Help?”\, the course will critically examine our current condition and constructively propose an alternative for the future\, informed primarily by the philosophy of Alfred North Whitehead. \nWeek 7 Topic: Science and Religion \nRegister now and reserve your spot today!
URL:https://cobb.institute/event/healthy-future-or-planetary-catastrophe-week-7/
LOCATION:Middle Tree\, 250 W 1st St. #210\, Claremont\, 91711\, United States
ATTACH;FMTTYPE=image/jpeg:https://cobb.institute/wp-content/uploads/2019/08/featured_image-HFPC_course.jpg
GEO:34.094139;-117.7179091
X-APPLE-STRUCTURED-LOCATION;VALUE=URI;X-ADDRESS=Middle Tree 250 W 1st St. #210 Claremont 91711 United States;X-APPLE-RADIUS=500;X-TITLE=250 W 1st St. #210:geo:-117.7179091,34.094139
END:VEVENT
BEGIN:VEVENT
DTSTART;TZID=America/Los_Angeles:20191123T010000
DTEND;TZID=America/Los_Angeles:20191123T030000
DTSTAMP:20260421T152024
CREATED:20190913T041116Z
LAST-MODIFIED:20200521T044154Z
UID:10000048-1574470800-1574478000@cobb.institute
SUMMARY:Healthy Future or Planetary Catastrophe? Week 6
DESCRIPTION:Our Learning Lab officially opens in October\, beginning with a course by Dr. John B. Cobb\, Jr. \nEntitled “Healthy Future or Planetary Catastrophe? Might Process Philosophy Help?”\, the course will critically examine our current condition and constructively propose an alternative for the future\, informed primarily by the philosophy of Alfred North Whitehead. \nWeek 6 Topic: Experiencing as Synthesizing Relations \nRegister now and reserve your spot today!
URL:https://cobb.institute/event/healthy-future-or-planetary-catastrophe-week-6/
LOCATION:Middle Tree\, 250 W 1st St. #210\, Claremont\, 91711\, United States
ATTACH;FMTTYPE=image/jpeg:https://cobb.institute/wp-content/uploads/2019/08/featured_image-HFPC_course.jpg
GEO:34.094139;-117.7179091
X-APPLE-STRUCTURED-LOCATION;VALUE=URI;X-ADDRESS=Middle Tree 250 W 1st St. #210 Claremont 91711 United States;X-APPLE-RADIUS=500;X-TITLE=250 W 1st St. #210:geo:-117.7179091,34.094139
END:VEVENT
BEGIN:VEVENT
DTSTART;TZID=America/Los_Angeles:20191116T010000
DTEND;TZID=America/Los_Angeles:20191116T030000
DTSTAMP:20260421T152024
CREATED:20190913T040610Z
LAST-MODIFIED:20200521T044159Z
UID:10000047-1573866000-1573873200@cobb.institute
SUMMARY:Healthy Future or Planetary Catastrophe? Week 5
DESCRIPTION:Our Learning Lab officially opens in October\, beginning with a course by Dr. John B. Cobb\, Jr. \nEntitled “Healthy Future or Planetary Catastrophe? Might Process Philosophy Help?”\, the course will critically examine our current condition and constructively propose an alternative for the future\, informed primarily by the philosophy of Alfred North Whitehead. \nWeek 5 Topic: The Priority of Experience over its Objects \nRegister now and reserve your spot today!
URL:https://cobb.institute/event/healthy-future-or-planetary-catastrophe-week-5/
LOCATION:Middle Tree\, 250 W 1st St. #210\, Claremont\, 91711\, United States
ATTACH;FMTTYPE=image/jpeg:https://cobb.institute/wp-content/uploads/2019/08/featured_image-HFPC_course.jpg
GEO:34.094139;-117.7179091
X-APPLE-STRUCTURED-LOCATION;VALUE=URI;X-ADDRESS=Middle Tree 250 W 1st St. #210 Claremont 91711 United States;X-APPLE-RADIUS=500;X-TITLE=250 W 1st St. #210:geo:-117.7179091,34.094139
END:VEVENT
BEGIN:VEVENT
DTSTART;TZID=America/Los_Angeles:20191109T010000
DTEND;TZID=America/Los_Angeles:20191109T030000
DTSTAMP:20260421T152024
CREATED:20190913T040139Z
LAST-MODIFIED:20200521T044203Z
UID:10000046-1573261200-1573268400@cobb.institute
SUMMARY:Healthy Future or Planetary Catastrophe? Week 4
DESCRIPTION:Our Learning Lab officially opens in October\, beginning with a course by Dr. John B. Cobb\, Jr. \nEntitled “Healthy Future or Planetary Catastrophe? Might Process Philosophy Help?”\, the course will critically examine our current condition and constructively propose an alternative for the future\, informed primarily by the philosophy of Alfred North Whitehead. \nWeek 4 Topic: Nature as Having Value in Itself vs. Nature as Only Resources for Us \nRegister now and reserve your spot today!
URL:https://cobb.institute/event/healthy-future-or-planetary-catastrophe-week-4/
LOCATION:Middle Tree\, 250 W 1st St. #210\, Claremont\, 91711\, United States
ATTACH;FMTTYPE=image/jpeg:https://cobb.institute/wp-content/uploads/2019/08/featured_image-HFPC_course.jpg
GEO:34.094139;-117.7179091
X-APPLE-STRUCTURED-LOCATION;VALUE=URI;X-ADDRESS=Middle Tree 250 W 1st St. #210 Claremont 91711 United States;X-APPLE-RADIUS=500;X-TITLE=250 W 1st St. #210:geo:-117.7179091,34.094139
END:VEVENT
BEGIN:VEVENT
DTSTART;TZID=America/Los_Angeles:20191026T020000
DTEND;TZID=America/Los_Angeles:20191026T040000
DTSTAMP:20260421T152024
CREATED:20190913T035842Z
LAST-MODIFIED:20200521T044209Z
UID:10000045-1572055200-1572062400@cobb.institute
SUMMARY:Healthy Future or Planetary Catastrophe? Week 3
DESCRIPTION:Our Learning Lab officially opens in October\, beginning with a course by Dr. John B. Cobb\, Jr. \nEntitled “Healthy Future or Planetary Catastrophe? Might Process Philosophy Help?”\, the course will critically examine our current condition and constructively propose an alternative for the future\, informed primarily by the philosophy of Alfred North Whitehead. \nWeek 3 Topic: Community vs. Competitive Individualism \nRegister before September 30th to receive 15% off the regular price. In-person and Online options available. In-class registration is limited to 30 seats\, so reserve your spot today!
URL:https://cobb.institute/event/healthy-future-or-planetary-catastrophe-week-3/
LOCATION:Middle Tree\, 250 W 1st St. #210\, Claremont\, 91711\, United States
ATTACH;FMTTYPE=image/jpeg:https://cobb.institute/wp-content/uploads/2019/08/featured_image-HFPC_course.jpg
GEO:34.094139;-117.7179091
X-APPLE-STRUCTURED-LOCATION;VALUE=URI;X-ADDRESS=Middle Tree 250 W 1st St. #210 Claremont 91711 United States;X-APPLE-RADIUS=500;X-TITLE=250 W 1st St. #210:geo:-117.7179091,34.094139
END:VEVENT
BEGIN:VEVENT
DTSTART;TZID=America/Los_Angeles:20191019T020000
DTEND;TZID=America/Los_Angeles:20191019T040000
DTSTAMP:20260421T152024
CREATED:20190913T035347Z
LAST-MODIFIED:20200521T044213Z
UID:10000044-1571450400-1571457600@cobb.institute
SUMMARY:Healthy Future or Planetary Catastrophe? Week 2
DESCRIPTION:Our Learning Lab officially opens in October\, beginning with a course by Dr. John B. Cobb\, Jr. \nEntitled “Healthy Future or Planetary Catastrophe? Might Process Philosophy Help?”\, the course will critically examine our current condition and constructively propose an alternative for the future\, informed primarily by the philosophy of Alfred North Whitehead. \nWeek 2 Topic: Organism vs. Mechanism \nRegister before September 30th to receive 15% off the regular price. In-person and Online options available. In-class registration is limited to 30 seats\, so reserve your spot today!
URL:https://cobb.institute/event/healthy-future-or-planetary-catastrophe-week-2/
LOCATION:Middle Tree\, 250 W 1st St. #210\, Claremont\, 91711\, United States
ATTACH;FMTTYPE=image/jpeg:https://cobb.institute/wp-content/uploads/2019/08/featured_image-HFPC_course.jpg
GEO:34.094139;-117.7179091
X-APPLE-STRUCTURED-LOCATION;VALUE=URI;X-ADDRESS=Middle Tree 250 W 1st St. #210 Claremont 91711 United States;X-APPLE-RADIUS=500;X-TITLE=250 W 1st St. #210:geo:-117.7179091,34.094139
END:VEVENT
BEGIN:VEVENT
DTSTART;TZID=America/Los_Angeles:20191012T020000
DTEND;TZID=America/Los_Angeles:20191012T040000
DTSTAMP:20260421T152024
CREATED:20190913T033312Z
LAST-MODIFIED:20200521T044218Z
UID:10000043-1570845600-1570852800@cobb.institute
SUMMARY:Healthy Future or Planetary Catastrophe? Week 1
DESCRIPTION:Our Learning Lab officially opens in October\, beginning with a course by Dr. John B. Cobb\, Jr. \nEntitled “Healthy Future or Planetary Catastrophe? Might Process Philosophy Help?”\, the course will critically examine our current condition and constructively propose an alternative for the future\, informed primarily by the philosophy of Alfred North Whitehead. \nWeek 1 Topic: Freedom vs. Determinism; Meaning vs. Meaninglessness \nRegister before September 30th to receive 15% off the regular price. In-person and Online options available. In-class registration is limited to 30 seats\, so reserve your spot today!
URL:https://cobb.institute/event/healthy-future-or-planetary-catastrophe-week-1/
LOCATION:Middle Tree\, 250 W 1st St. #210\, Claremont\, 91711\, United States
ATTACH;FMTTYPE=image/jpeg:https://cobb.institute/wp-content/uploads/2019/08/featured_image-HFPC_course.jpg
GEO:34.094139;-117.7179091
X-APPLE-STRUCTURED-LOCATION;VALUE=URI;X-ADDRESS=Middle Tree 250 W 1st St. #210 Claremont 91711 United States;X-APPLE-RADIUS=500;X-TITLE=250 W 1st St. #210:geo:-117.7179091,34.094139
END:VEVENT
BEGIN:VEVENT
DTSTART;VALUE=DATE:20190418
DTEND;VALUE=DATE:20190421
DTSTAMP:20260421T152024
CREATED:20190206T060620Z
LAST-MODIFIED:20190206T060620Z
UID:10000039-1555606800-1555779599@cobb.institute
SUMMARY:Ecological Civilization and Holistic Human Development
DESCRIPTION:13th International Forum on Ecological Civilization \n2nd International Youth Forum on Ecological Civilization \nAs a positive vision of human flourishing\, ecological civilization is about more than what we can do\, it involves who we can become. It’s not merely about having more or doing more\, but about being more. Being an “eco-person” speaks to the deeper motivations behind the kinds of actions we need to take in response to our complex social and environmental crisis. The development of eco-persons is connected with the qualitative measure of meaningful relationships\, and not simply with quantitative measures of carbon\, money\, or degrees in temperature. Who we are is more than what we do. It’s this something more that lies at the intersection of the ecological civilization movement and holistic human development\, and serves as the theme for the 13th International Forum on Ecological Civilization. \nThe forum will bring together creative academics\, non-profit leaders\, governmental officials\, and leading activists to explore new models of holistic human development in the transition toward ecological civilization. \nPossible topics include but are not limited to: \n\nWhat does it mean to be human in the context of ecological civilization?\nHow might holistic human development advance the movement toward ecological civilization?\nWhat changes are needed to promote human dignity for all people?\nHow might economic systems be restructured for the flourishing of all life?\nWhat is the role of family and community in promoting healthy human relationships?\nHow might human relations to nature be reconceived for mutual well-being?\nWhat does it mean to be an “eco-person” and how can we cultivate this quality?\nCan systems of governance\, law\, and justice\, be restructured for holistic human development? If so\, what will these new systems look like and how do we begin the transition now?\nHow should systems of education be structured to enhance holistic human development?\nIs religion and/or spirituality necessary for holistic human development?\n\n  \nCall for Papers:\nIf you would like to present at this international gathering\, please submit a 500 word abstract outlining your proposal. The deadline to submit your abstract is December 31\, 2018. Proposals should be sent via the online form here. \n  \nYouth Forum:\nThe 2nd International Youth Forum on Ecological Civilization will bring together students\, activists\, and leaders from around the world to explore new models of holistic human development in the transition toward ecological civilization. The forum in formatted as a discussion. If you would like to participate in this Int’l Youth Forum\, please contact Dr. John Becker at jbecker@postmodernchina.org.
URL:https://cobb.institute/event/ecological-civilization-and-holistic-human-development/
LOCATION:Pitzer College\, Claremont\, CA\, 91711
ATTACH;FMTTYPE=image/jpeg:https://cobb.institute/wp-content/uploads/2019/02/holism-1024x732-847x486.jpg
END:VEVENT
BEGIN:VEVENT
DTSTART;TZID=America/Los_Angeles:20190409T123000
DTEND;TZID=America/Los_Angeles:20190409T140000
DTSTAMP:20260421T152024
CREATED:20190326T064707Z
LAST-MODIFIED:20190326T064707Z
UID:10000042-1554813000-1554818400@cobb.institute
SUMMARY:Fasnacht Lecture Featuring John Cobb
DESCRIPTION:John B. Cobb\, Jr. is an American philosopher\, theologian\, and environmentalist. He is often cited as one of the most important North American theologians of the twentieth century. Co-founder of the Center for Process Studies\, and Professor Emeritus of Claremont School of Theology and Claremont Graduate University\, Cobb is a preeminent scholar in the school of thought associated with the philosophy of Alfred North Whitehead and the notion of ecological civilization. He is author/ editor of more than fifty books\, and a member of the American Academy of Arts and Science–one of the nation’s highest honors.
URL:https://cobb.institute/event/fasnacht-lecture-featuring-john-cobb/
LOCATION:The Sara and Michael Abraham Campus Center\, 2000 Second Street\, La Verne\, CA\, 91750\, United States
ATTACH;FMTTYPE=image/jpeg:https://cobb.institute/wp-content/uploads/2019/03/Screenshot_20190325-164136_Adobe-Acrobat.jpg
GEO:34.0997142;-117.7721966
X-APPLE-STRUCTURED-LOCATION;VALUE=URI;X-ADDRESS=The Sara and Michael Abraham Campus Center 2000 Second Street La Verne CA 91750 United States;X-APPLE-RADIUS=500;X-TITLE=2000 Second Street:geo:-117.7721966,34.0997142
END:VEVENT
BEGIN:VEVENT
DTSTART;TZID=America/Los_Angeles:20190319T120000
DTEND;TZID=America/Los_Angeles:20190319T130000
DTSTAMP:20260421T152024
CREATED:20190301T092145Z
LAST-MODIFIED:20190308T062635Z
UID:10000041-1552996800-1553000400@cobb.institute
SUMMARY:Launch Party
DESCRIPTION:LAUNCH PARTY\nWant to learn about this new organization and ways that you can get involved?\nJoin John Cobb and friends a the Launch Party for the new Claremont Institute for Process Studies.\nHere’s an Invitation Letter from John B. Cobb\, Jr.\nCheck out our list of Programs & Interests
URL:https://cobb.institute/event/launch-party/
LOCATION:Napier Common Room\, 670 Avery Road\, Claremont\, CA\, 91711\, United States
GEO:34.099169;-117.7240722
X-APPLE-STRUCTURED-LOCATION;VALUE=URI;X-ADDRESS=Napier Common Room 670 Avery Road Claremont CA 91711 United States;X-APPLE-RADIUS=500;X-TITLE=670 Avery Road:geo:-117.7240722,34.099169
END:VEVENT
BEGIN:VEVENT
DTSTART;TZID=America/Los_Angeles:20190218T001500
DTEND;TZID=America/Los_Angeles:20190218T063000
DTSTAMP:20260421T152024
CREATED:20190206T045758Z
LAST-MODIFIED:20190206T045758Z
UID:10000038-1550448900-1550471400@cobb.institute
SUMMARY:Pomona Reawakening: Celebrating Milestones & Taking It to the Next Level
DESCRIPTION:Conference objective: To add traction to the city’s commitment to compassion as a core value.\nPomona leadership voted to join the Compassionate Cities movement. Within the city\, significant steps are being taken to empower homeless neighbors\, immigrants\, refugees\, ex-felons\, and the youth of the community. The conference will celebrate such milestones and will address remaining tough challenges. The first keynoter\, Azim Khamisa\, will give a powerful challenge to live compassionately as persons and as a community. Pomona Mayor Tim Sandoval will also speak. Eight workshops featuring seasoned community leaders and organizers will address current successes and major challenges. \nKeynote Speakers\nAzim Khamisa shifted from banking to a life of advocating for compassion and social change in the wake of the senseless murder of his son\, Tariq. He has formed the Tariq Khamisa Foundation\, become an author\, and received wide recognition for his commitment to forgiveness and nonviolence. \nTim Sandoval\, Mayor of Pomona\, has brought hope to young people’s high potential by helping to pave the way to and through college. He now brings hope to Pomona and environs as he sees the potential of the community and encourages next steps. \nWorkshops\nThere will be two workshop sessions\, with each of the following available in each session. Thus\, each attendee can attend 2 of the 8 workshops. \n\nAffordable Housing: Complexities and Possibilities: John Nolte\, Esq.\, Organizer for PUSH ( Pomona Unified for Stable Housing)\, former Pomona City Councilperson; Kirk Pelser\, Pomona Deputy City Manager; Don Pryne\, Consultant for affordable\, supportive housing\, retired from a career in city management. Workshop Chair: Dr. Thomas Allison\, Esq.\nCare for the Environment: Maria Teresa Alonso\, Executive Director\, Huerta Del Valle (urban farming); Randy Beckandam\, Executive Director\, Amy’s Farm (urban farming); Devon Hartman\, Founder and CEO\, Community Home Energy Retrofit Project\, (newly efficient solar energy panels to be produced in Pomona as a nonprofit enterprise). Workshop Chair: Javier Gomez\nConverting Homelessness to New Beginnings: Sergeant Anthony Catanese\, Pomona Police Department; Reggie Clark\, Program Manager\, Volunteers of American (VOA)\, Pomona Office; Rolando Lumbsden\, VOA case manager; Toni Navarro\, Executive Director\, Tri-City Mental Health Services. Workshop Chair: Mary Tawadros\nLove Yourself\, Love Your Neighbor\, Building Capacity for Compassion:Almitra Henderson\, Director\, Compassion Leadership\, Human Values Center; Dr. Frank Rogers\, Professor\, Claremont School of Theology\, author\nSecurity and Opportunity for Immigrant Neighbors: Javier Hernandez\, Executive Director\, Inland Coalition for Immigrant Justice: Angela Sanbrano\, Vice President\, Latino-Latina Roundtable\, board chair\, CARECEN\, Co-Executive Director\, NDLON; Alex Sanchez\, Founder and Director\, Homies Unidos. Workshop Chair: Madeline Rios\nThe Power of Spoken Word: Eternal Mind\, Spoken Word Artist; Tyrone Stokes\, AKA Lyrically Twisted\, Rapper Spoken Word Artist\nToward a More Humane Justice System: Prevention\, Re-entry\, Restoration: Rev. Nora Jacob\, Restorative Justice Minister\, Urban Mission\, Pomona; Azim Khamisa\, keynoter\, Founder\, Tariq Khamisa Foundation; Phillip Senteno\, Founder and Director\, Forward Progress. Workshop Chair: Rev. Jan Chase\nYouth Speaks to the Compassion Challenge: Vincha Fossett\, Village Academy High School\, PUSD; Abid Kazmi\, City of Knowledge; Marleni Munguia\, Cal Poly Pomona (formerly PUSD); Fernando Navarro\, Garey High School\, PUSD: Workshop Chair: Paul Knopf
URL:https://cobb.institute/event/pomona-reawakening-celebrating-milestones-taking-it-to-the-next-level/
LOCATION:Temple Beth Israel\, 3033 N. Towne Ave.\, Pomona\, CA\, 91767\, United States
ATTACH;FMTTYPE=image/jpeg:https://cobb.institute/wp-content/uploads/2019/02/pomona-reawakening.jpg
GEO:34.1025061;-117.7384369
X-APPLE-STRUCTURED-LOCATION;VALUE=URI;X-ADDRESS=Temple Beth Israel 3033 N. Towne Ave. Pomona CA 91767 United States;X-APPLE-RADIUS=500;X-TITLE=3033 N. Towne Ave.:geo:-117.7384369,34.1025061
END:VEVENT
BEGIN:VEVENT
DTSTART;VALUE=DATE:20190214
DTEND;VALUE=DATE:20190219
DTSTAMP:20260421T152024
CREATED:20190206T061015Z
LAST-MODIFIED:20190206T061027Z
UID:10000040-1550160000-1550505599@cobb.institute
SUMMARY:Common Good International Film Festival
DESCRIPTION:Four days of films and discussions that elicit common sense\, common decency\, and the common good\, while celebrating the wisdom of Alfred North Whitehead. With ten films meant to inform\, inspire\, and amuse\, the Common Good Film Festival celebrates the work of filmmakers that tell the stories of those dedicated to the benefit of humanity.
URL:https://cobb.institute/event/common-good-international-film-festival/
LOCATION:Mudd Theater\, 1325 N. College Ave\, Claremont\, CA\, 91711\, United States
ATTACH;FMTTYPE=image/jpeg:https://cobb.institute/wp-content/uploads/2019/02/CGIFF-logo.jpg
GEO:34.1077059;-117.716307
X-APPLE-STRUCTURED-LOCATION;VALUE=URI;X-ADDRESS=Mudd Theater 1325 N. College Ave Claremont CA 91711 United States;X-APPLE-RADIUS=500;X-TITLE=1325 N. College Ave:geo:-117.716307,34.1077059
END:VEVENT
END:VCALENDAR