BEGIN:VCALENDAR
VERSION:2.0
PRODID:-//Cobb Institute - ECPv6.15.17.1//NONSGML v1.0//EN
CALSCALE:GREGORIAN
METHOD:PUBLISH
X-WR-CALNAME:Cobb Institute
X-ORIGINAL-URL:https://cobb.institute
X-WR-CALDESC:Events for Cobb Institute
REFRESH-INTERVAL;VALUE=DURATION:PT1H
X-Robots-Tag:noindex
X-PUBLISHED-TTL:PT1H
BEGIN:VTIMEZONE
TZID:America/Los_Angeles
BEGIN:DAYLIGHT
TZOFFSETFROM:-0800
TZOFFSETTO:-0700
TZNAME:PDT
DTSTART:20180311T100000
END:DAYLIGHT
BEGIN:STANDARD
TZOFFSETFROM:-0700
TZOFFSETTO:-0800
TZNAME:PST
DTSTART:20181104T090000
END:STANDARD
BEGIN:DAYLIGHT
TZOFFSETFROM:-0800
TZOFFSETTO:-0700
TZNAME:PDT
DTSTART:20190310T100000
END:DAYLIGHT
BEGIN:STANDARD
TZOFFSETFROM:-0700
TZOFFSETTO:-0800
TZNAME:PST
DTSTART:20191103T090000
END:STANDARD
BEGIN:DAYLIGHT
TZOFFSETFROM:-0800
TZOFFSETTO:-0700
TZNAME:PDT
DTSTART:20200308T100000
END:DAYLIGHT
BEGIN:STANDARD
TZOFFSETFROM:-0700
TZOFFSETTO:-0800
TZNAME:PST
DTSTART:20201101T090000
END:STANDARD
END:VTIMEZONE
BEGIN:VEVENT
DTSTART;TZID=America/Los_Angeles:20191012T020000
DTEND;TZID=America/Los_Angeles:20191012T040000
DTSTAMP:20260421T021421
CREATED:20190913T033312Z
LAST-MODIFIED:20200521T044218Z
UID:10000043-1570845600-1570852800@cobb.institute
SUMMARY:Healthy Future or Planetary Catastrophe? Week 1
DESCRIPTION:Our Learning Lab officially opens in October\, beginning with a course by Dr. John B. Cobb\, Jr. \nEntitled “Healthy Future or Planetary Catastrophe? Might Process Philosophy Help?”\, the course will critically examine our current condition and constructively propose an alternative for the future\, informed primarily by the philosophy of Alfred North Whitehead. \nWeek 1 Topic: Freedom vs. Determinism; Meaning vs. Meaninglessness \nRegister before September 30th to receive 15% off the regular price. In-person and Online options available. In-class registration is limited to 30 seats\, so reserve your spot today!
URL:https://cobb.institute/event/healthy-future-or-planetary-catastrophe-week-1/
LOCATION:Middle Tree\, 250 W 1st St. #210\, Claremont\, 91711\, United States
ATTACH;FMTTYPE=image/jpeg:https://cobb.institute/wp-content/uploads/2019/08/featured_image-HFPC_course.jpg
GEO:34.094139;-117.7179091
X-APPLE-STRUCTURED-LOCATION;VALUE=URI;X-ADDRESS=Middle Tree 250 W 1st St. #210 Claremont 91711 United States;X-APPLE-RADIUS=500;X-TITLE=250 W 1st St. #210:geo:-117.7179091,34.094139
END:VEVENT
BEGIN:VEVENT
DTSTART;TZID=America/Los_Angeles:20191019T020000
DTEND;TZID=America/Los_Angeles:20191019T040000
DTSTAMP:20260421T021421
CREATED:20190913T035347Z
LAST-MODIFIED:20200521T044213Z
UID:10000044-1571450400-1571457600@cobb.institute
SUMMARY:Healthy Future or Planetary Catastrophe? Week 2
DESCRIPTION:Our Learning Lab officially opens in October\, beginning with a course by Dr. John B. Cobb\, Jr. \nEntitled “Healthy Future or Planetary Catastrophe? Might Process Philosophy Help?”\, the course will critically examine our current condition and constructively propose an alternative for the future\, informed primarily by the philosophy of Alfred North Whitehead. \nWeek 2 Topic: Organism vs. Mechanism \nRegister before September 30th to receive 15% off the regular price. In-person and Online options available. In-class registration is limited to 30 seats\, so reserve your spot today!
URL:https://cobb.institute/event/healthy-future-or-planetary-catastrophe-week-2/
LOCATION:Middle Tree\, 250 W 1st St. #210\, Claremont\, 91711\, United States
ATTACH;FMTTYPE=image/jpeg:https://cobb.institute/wp-content/uploads/2019/08/featured_image-HFPC_course.jpg
GEO:34.094139;-117.7179091
X-APPLE-STRUCTURED-LOCATION;VALUE=URI;X-ADDRESS=Middle Tree 250 W 1st St. #210 Claremont 91711 United States;X-APPLE-RADIUS=500;X-TITLE=250 W 1st St. #210:geo:-117.7179091,34.094139
END:VEVENT
BEGIN:VEVENT
DTSTART;TZID=America/Los_Angeles:20191026T020000
DTEND;TZID=America/Los_Angeles:20191026T040000
DTSTAMP:20260421T021421
CREATED:20190913T035842Z
LAST-MODIFIED:20200521T044209Z
UID:10000045-1572055200-1572062400@cobb.institute
SUMMARY:Healthy Future or Planetary Catastrophe? Week 3
DESCRIPTION:Our Learning Lab officially opens in October\, beginning with a course by Dr. John B. Cobb\, Jr. \nEntitled “Healthy Future or Planetary Catastrophe? Might Process Philosophy Help?”\, the course will critically examine our current condition and constructively propose an alternative for the future\, informed primarily by the philosophy of Alfred North Whitehead. \nWeek 3 Topic: Community vs. Competitive Individualism \nRegister before September 30th to receive 15% off the regular price. In-person and Online options available. In-class registration is limited to 30 seats\, so reserve your spot today!
URL:https://cobb.institute/event/healthy-future-or-planetary-catastrophe-week-3/
LOCATION:Middle Tree\, 250 W 1st St. #210\, Claremont\, 91711\, United States
ATTACH;FMTTYPE=image/jpeg:https://cobb.institute/wp-content/uploads/2019/08/featured_image-HFPC_course.jpg
GEO:34.094139;-117.7179091
X-APPLE-STRUCTURED-LOCATION;VALUE=URI;X-ADDRESS=Middle Tree 250 W 1st St. #210 Claremont 91711 United States;X-APPLE-RADIUS=500;X-TITLE=250 W 1st St. #210:geo:-117.7179091,34.094139
END:VEVENT
END:VCALENDAR