BEGIN:VCALENDAR
VERSION:2.0
PRODID:-//Cobb Institute - ECPv6.15.17.1//NONSGML v1.0//EN
CALSCALE:GREGORIAN
METHOD:PUBLISH
X-ORIGINAL-URL:https://cobb.institute
X-WR-CALDESC:Events for Cobb Institute
REFRESH-INTERVAL;VALUE=DURATION:PT1H
X-Robots-Tag:noindex
X-PUBLISHED-TTL:PT1H
BEGIN:VTIMEZONE
TZID:America/Los_Angeles
BEGIN:DAYLIGHT
TZOFFSETFROM:-0800
TZOFFSETTO:-0700
TZNAME:PDT
DTSTART:20190310T100000
END:DAYLIGHT
BEGIN:STANDARD
TZOFFSETFROM:-0700
TZOFFSETTO:-0800
TZNAME:PST
DTSTART:20191103T090000
END:STANDARD
BEGIN:DAYLIGHT
TZOFFSETFROM:-0800
TZOFFSETTO:-0700
TZNAME:PDT
DTSTART:20200308T100000
END:DAYLIGHT
BEGIN:STANDARD
TZOFFSETFROM:-0700
TZOFFSETTO:-0800
TZNAME:PST
DTSTART:20201101T090000
END:STANDARD
BEGIN:DAYLIGHT
TZOFFSETFROM:-0800
TZOFFSETTO:-0700
TZNAME:PDT
DTSTART:20210314T100000
END:DAYLIGHT
BEGIN:STANDARD
TZOFFSETFROM:-0700
TZOFFSETTO:-0800
TZNAME:PST
DTSTART:20211107T090000
END:STANDARD
END:VTIMEZONE
BEGIN:VEVENT
DTSTART;TZID=America/Los_Angeles:20201201T100000
DTEND;TZID=America/Los_Angeles:20201201T120000
DTSTAMP:20260424T191633
CREATED:20201129T065614Z
LAST-MODIFIED:20220216T174547Z
UID:10000004-1606816800-1606824000@cobb.institute
SUMMARY:John Cobb & Friends Gathering - Thandeka
DESCRIPTION:Topic: Love Beyond Belief – Part 1 \n\n\n\nPresenter(s): Rev. Thandeka \n\n\n\n\n\n\n\nInformation about how to access the gathering are made available via email. To find out about a single meeting\, send an email to events@cobb.institute. If you would like to be added to our email list to receive regular meeting announcements and updates about the Institute\, please click here.
URL:https://cobb.institute/event/john-cobb-friends-gathering-2020-12-01/
LOCATION:Online Event
CATEGORIES:Cobb & Friends
ATTACH;FMTTYPE=image/jpeg:https://cobb.institute/wp-content/uploads/2020/05/Cobb-Friends-featured-image.jpg
ORGANIZER;CN="Cobb Institute":MAILTO:events@cobb.institute
END:VEVENT
BEGIN:VEVENT
DTSTART;TZID=America/Los_Angeles:20201208T100000
DTEND;TZID=America/Los_Angeles:20201208T120000
DTSTAMP:20260424T191633
CREATED:20201205T223732Z
LAST-MODIFIED:20220216T174616Z
UID:10000006-1607421600-1607428800@cobb.institute
SUMMARY:John Cobb & Friends Gathering - Lynn De Jonghe
DESCRIPTION:Topic: Everything Flows: An Ecohumanist Vision \n\n\n\nPresenter(s): Lynn De Jonghe \n\n\n\n\n\n\n\nInformation about how to access the gathering are made available via email. To find out about a single meeting\, send an email to events@cobb.institute. If you would like to be added to our email list to receive regular meeting announcements and updates about the Institute\, please click here.
URL:https://cobb.institute/event/john-cobb-friends-gathering-2020-12-08/
LOCATION:Online Event
CATEGORIES:Cobb & Friends
ATTACH;FMTTYPE=image/png:https://cobb.institute/wp-content/uploads/2020/12/CobbFriends-Zoom-wide-1300x788-1.png
ORGANIZER;CN="Cobb Institute":MAILTO:events@cobb.institute
END:VEVENT
BEGIN:VEVENT
DTSTART;TZID=America/Los_Angeles:20201212T100000
DTEND;TZID=America/Los_Angeles:20201212T120000
DTSTAMP:20260424T191633
CREATED:20201120T231628Z
LAST-MODIFIED:20201207T010756Z
UID:10000003-1607767200-1607774400@cobb.institute
SUMMARY:Imagine What Could Be
DESCRIPTION:Jay McDaniel says\, “Music is what feelings sound like.” In the “process world” we understand feelings\, but it’s also nice to have experiences that remind us of the power of music. The Cobb Institute is hosting a mini music festival where we can be together and enjoy the inspirational voices of some of our process musicians. We think it’s important to find ways to join in community\, especially when we are forced to be so physically separated. \n\n\n\nDuring this season of giving and receiving\, we hope you’ll join us as these musicians share their gift with us. In return\, we hope that you’ll consider sharing something with the Cobb Institute. This event is a fundraiser\, but admission is free\, and everyone is welcome whether they are in a position to give or not. We just want you to feel a little joy and hope and harmony during a time in which so many are suffering. \n\n\n\nFeaturing Performances by…\n\n\n\nBill McClellan\, “The Cuckoo”Sheri Kling\, “Whole-Making Nearness of God”Hope Montgomery\, “The Solstice Song”Don Viney\, “Teilhard’s Fire”Joe Lombardi\, “Spirit”Susannah Stubbs\, “Big Yellow Taxi”Jon Gill\, “The Next Universe”Adventureland\, “All Shall Be Well”Music Video by Kat Reeves\, featuring the photography of Tom Oord\n\n\n\nAnd more… \n\n\n\nPlease join us!\n\n\n\n\n\nWhen\n\n\n\n\n\n\n\n\n\n\n\nWhere\n\n\n\n\n\nOnline Zoom Meeting\n\n\n\n\n\nRSVP to receive Zoom meeting information.
URL:https://cobb.institute/event/imagine-what-could-be/
ATTACH;FMTTYPE=image/png:https://cobb.institute/wp-content/uploads/2020/11/Imagine_What_Could_Be-2-1080x712-1.png
END:VEVENT
BEGIN:VEVENT
DTSTART;TZID=America/Los_Angeles:20201215T100000
DTEND;TZID=America/Los_Angeles:20201215T120000
DTSTAMP:20260424T191633
CREATED:20201129T065822Z
LAST-MODIFIED:20220216T174656Z
UID:10000005-1608026400-1608033600@cobb.institute
SUMMARY:John Cobb & Friends Gathering - Thandeka
DESCRIPTION:Topic: Love Beyond Belief – Part 2 \n\n\n\nPresenter(s): Rev. Thandeka \n\n\n\n\n\n\n\nInformation about how to access the gathering are made available via email. To find out about a single meeting\, send an email to events@cobb.institute. If you would like to be added to our email list to receive regular meeting announcements and updates about the Institute\, please click here.
URL:https://cobb.institute/event/john-cobb-friends-gathering-2020-12-15/
LOCATION:Online Event
CATEGORIES:Cobb & Friends
ATTACH;FMTTYPE=image/png:https://cobb.institute/wp-content/uploads/2020/12/CobbFriends-Zoom-wide-1300x788-1.png
ORGANIZER;CN="Cobb Institute":MAILTO:events@cobb.institute
END:VEVENT
BEGIN:VEVENT
DTSTART;TZID=America/Los_Angeles:20201222T100000
DTEND;TZID=America/Los_Angeles:20201222T120000
DTSTAMP:20260424T191633
CREATED:20201213T081414Z
LAST-MODIFIED:20220216T174733Z
UID:10000007-1608631200-1608638400@cobb.institute
SUMMARY:John Cobb & Friends Gathering - Holiday Party
DESCRIPTION:Topic: Informal Holiday Party \n\n\n\nPresenter(s): TBA \n\n\n\n\n\n\n\nInformation about how to access the gathering are made available via email. To find out about a single meeting\, send an email to events@cobb.institute. If you would like to be added to our email list to receive regular meeting announcements and updates about the Institute\, please click here.
URL:https://cobb.institute/event/john-cobb-friends-gathering-2020-12-22/
LOCATION:Online Event
CATEGORIES:Cobb & Friends
ATTACH;FMTTYPE=image/png:https://cobb.institute/wp-content/uploads/2020/12/CobbFriends-Zoom-wide-1300x788-1.png
ORGANIZER;CN="Cobb Institute":MAILTO:events@cobb.institute
END:VEVENT
END:VCALENDAR