BEGIN:VCALENDAR
VERSION:2.0
PRODID:-//Cobb Institute - ECPv6.15.17.1//NONSGML v1.0//EN
CALSCALE:GREGORIAN
METHOD:PUBLISH
X-ORIGINAL-URL:https://cobb.institute
X-WR-CALDESC:Events for Cobb Institute
REFRESH-INTERVAL;VALUE=DURATION:PT1H
X-Robots-Tag:noindex
X-PUBLISHED-TTL:PT1H
BEGIN:VTIMEZONE
TZID:America/Los_Angeles
BEGIN:DAYLIGHT
TZOFFSETFROM:-0800
TZOFFSETTO:-0700
TZNAME:PDT
DTSTART:20190310T100000
END:DAYLIGHT
BEGIN:STANDARD
TZOFFSETFROM:-0700
TZOFFSETTO:-0800
TZNAME:PST
DTSTART:20191103T090000
END:STANDARD
BEGIN:DAYLIGHT
TZOFFSETFROM:-0800
TZOFFSETTO:-0700
TZNAME:PDT
DTSTART:20200308T100000
END:DAYLIGHT
BEGIN:STANDARD
TZOFFSETFROM:-0700
TZOFFSETTO:-0800
TZNAME:PST
DTSTART:20201101T090000
END:STANDARD
BEGIN:DAYLIGHT
TZOFFSETFROM:-0800
TZOFFSETTO:-0700
TZNAME:PDT
DTSTART:20210314T100000
END:DAYLIGHT
BEGIN:STANDARD
TZOFFSETFROM:-0700
TZOFFSETTO:-0800
TZNAME:PST
DTSTART:20211107T090000
END:STANDARD
END:VTIMEZONE
BEGIN:VEVENT
DTSTART;TZID=America/Los_Angeles:20200901T100000
DTEND;TZID=America/Los_Angeles:20200901T120000
DTSTAMP:20260421T204350
CREATED:20200823T063744Z
LAST-MODIFIED:20220216T173738Z
UID:10000071-1598954400-1598961600@cobb.institute
SUMMARY:John Cobb & Friends Gathering - John Cobb
DESCRIPTION:Topic: John Cobb’s New Book: Salvation: Jesus’s Mission and Our Mission \nPresenters: John Cobb \nInformation about how to access the gathering are made available via email. To find out about a single meeting\, send an email to events@cobb.institute. If you would like to be added to our email list and receive regular meeting announcements\, as well as updates about the Institute\, please click here.
URL:https://cobb.institute/event/john-cobb-friends-gathering-2020-09-01/
LOCATION:Online Event
CATEGORIES:Cobb & Friends
ATTACH;FMTTYPE=image/jpeg:https://cobb.institute/wp-content/uploads/2020/05/Cobb-Friends-featured-image.jpg
ORGANIZER;CN="Cobb Institute":MAILTO:events@cobb.institute
END:VEVENT
BEGIN:VEVENT
DTSTART;TZID=America/Los_Angeles:20200825T100000
DTEND;TZID=America/Los_Angeles:20200825T120000
DTSTAMP:20260421T204350
CREATED:20200729T040643Z
LAST-MODIFIED:20220216T173705Z
UID:10000070-1598349600-1598356800@cobb.institute
SUMMARY:John Cobb & Friends Gathering - John Sanders and John Cobb
DESCRIPTION:Topic: Religious Polarization in America Today: A Sociological and Theological Analysis \nPresenters: John Sanders and John Cobb \nInformation about how to access the meeting is made available via email. To find out about a single event\, send an email to events@cobb.institute. If you would like to be added to our email list and receive regular meeting announcements\, as well as updates about the Institute\, please click here.
URL:https://cobb.institute/event/john-cobb-friends-gathering-2020-08-25/
LOCATION:Online Event
CATEGORIES:Cobb & Friends
ATTACH;FMTTYPE=image/jpeg:https://cobb.institute/wp-content/uploads/2020/05/Cobb-Friends-featured-image.jpg
ORGANIZER;CN="Cobb Institute":MAILTO:events@cobb.institute
END:VEVENT
BEGIN:VEVENT
DTSTART;TZID=America/Los_Angeles:20200818T100000
DTEND;TZID=America/Los_Angeles:20200818T120000
DTSTAMP:20260421T204350
CREATED:20200729T040315Z
LAST-MODIFIED:20220216T173630Z
UID:10000069-1597744800-1597752000@cobb.institute
SUMMARY:John Cobb & Friends Gathering - Peter Dreier
DESCRIPTION:Topic: Community Transformation for a Compassionate City\n\nPresenter: Peter Dreier\n\nInformation about how to access the meeting is made available in the email announcements. If you would like to be added to our email list and receive meeting announcements\, as well as updates about the Institute\, please click here.
URL:https://cobb.institute/event/john-cobb-friends-gathering-2020-08-18/
LOCATION:Online Event
ATTACH;FMTTYPE=image/jpeg:https://cobb.institute/wp-content/uploads/2020/05/Cobb-Friends-featured-image.jpg
ORGANIZER;CN="Cobb Institute":MAILTO:events@cobb.institute
END:VEVENT
BEGIN:VEVENT
DTSTART;TZID=America/Los_Angeles:20200811T100000
DTEND;TZID=America/Los_Angeles:20200811T120000
DTSTAMP:20260421T204350
CREATED:20200729T040114Z
LAST-MODIFIED:20220216T173537Z
UID:10000068-1597140000-1597147200@cobb.institute
SUMMARY:John Cobb & Friends Gathering - Frederic and Mary Ann Brussat
DESCRIPTION:Topic: Process\, Spirituality\, and the Spiritual Alphabet \nPresenter: Frederic and Mary Ann Brussat \nInformation about how to access the meeting is made available in the email announcements. If you would like to be added to our email list and receive meeting announcements\, as well as updates about the Institute\, please click here.
URL:https://cobb.institute/event/john-cobb-friends-gathering-2020-08-11/
LOCATION:Online Event
CATEGORIES:Cobb & Friends
ATTACH;FMTTYPE=image/jpeg:https://cobb.institute/wp-content/uploads/2020/05/Cobb-Friends-featured-image.jpg
ORGANIZER;CN="Cobb Institute":MAILTO:events@cobb.institute
END:VEVENT
BEGIN:VEVENT
DTSTART;TZID=America/Los_Angeles:20200804T100000
DTEND;TZID=America/Los_Angeles:20200804T120000
DTSTAMP:20260421T204350
CREATED:20200729T035840Z
LAST-MODIFIED:20220216T173505Z
UID:10000067-1596535200-1596542400@cobb.institute
SUMMARY:John Cobb & Friends Gathering - Jay McDaniel
DESCRIPTION:Topic: Becoming an Interfaith Leader \nPresenter: Jay McDaniel \nInformation about how to access the meeting is made available in the email announcements. If you would like to be added to our email list and receive meeting announcements\, as well as updates about the Institute\, please click here.
URL:https://cobb.institute/event/john-cobb-friends-gathering-2020-08-04/
LOCATION:Online Event
CATEGORIES:Cobb & Friends
ATTACH;FMTTYPE=image/jpeg:https://cobb.institute/wp-content/uploads/2020/05/Cobb-Friends-featured-image.jpg
ORGANIZER;CN="Cobb Institute":MAILTO:events@cobb.institute
END:VEVENT
BEGIN:VEVENT
DTSTART;TZID=America/Los_Angeles:20200728T100000
DTEND;TZID=America/Los_Angeles:20200728T120000
DTSTAMP:20260421T204350
CREATED:20200720T053255Z
LAST-MODIFIED:20220216T173416Z
UID:10000066-1595930400-1595937600@cobb.institute
SUMMARY:John Cobb & Friends Gathering - Jay Jones
DESCRIPTION:Topic: L. Charles Birch\, On Whitehead and Biology \nPresenter: Jay Jones\, Professor of Biology\, University of La Verne \nInformation about how to access the meeting is made available in the email announcements. If you would like to be added to our email list and receive meeting announcements\, as well as updates about the Institute\, please click here.
URL:https://cobb.institute/event/john-cobb-friends-gathering-2020-07-28/
LOCATION:Online Event
CATEGORIES:Cobb & Friends
ATTACH;FMTTYPE=image/jpeg:https://cobb.institute/wp-content/uploads/2020/05/Cobb-Friends-featured-image.jpg
ORGANIZER;CN="Cobb Institute":MAILTO:events@cobb.institute
END:VEVENT
BEGIN:VEVENT
DTSTART;TZID=America/Los_Angeles:20200721T100000
DTEND;TZID=America/Los_Angeles:20200721T120000
DTSTAMP:20260421T204350
CREATED:20200614T230355Z
LAST-MODIFIED:20220216T173329Z
UID:10000061-1595325600-1595332800@cobb.institute
SUMMARY:John Cobb & Friends Gathering - John Cobb\, Meijun Fan\, and Zhihe Wang
DESCRIPTION:Topic: Interview With John Cobb By Chinese Xinhua News Agency \nPresenter: John Cobb\, Meijun Fan\, and Zhihe Wang \nInformation about how to access the meeting is made available in the email announcements. If you would like to be added to our email list and receive meeting announcements\, as well as updates about the Institute\, please click here.
URL:https://cobb.institute/event/john-cobb-friends-gathering-2020-07-21/
LOCATION:Online Event
CATEGORIES:Cobb & Friends
ATTACH;FMTTYPE=image/jpeg:https://cobb.institute/wp-content/uploads/2020/05/Cobb-Friends-featured-image.jpg
ORGANIZER;CN="Cobb Institute":MAILTO:events@cobb.institute
END:VEVENT
BEGIN:VEVENT
DTSTART;TZID=America/Los_Angeles:20200714T100000
DTEND;TZID=America/Los_Angeles:20200714T120000
DTSTAMP:20260421T204350
CREATED:20200614T231119Z
LAST-MODIFIED:20220216T173241Z
UID:10000062-1594720800-1594728000@cobb.institute
SUMMARY:John Cobb & Friends Gathering - Marcus Ford
DESCRIPTION:Topic: “Re-foresting\, Rewilding\, and Re-civilizing\,” by Marcus Ford\n(Read Article) \nPresenter: Marcus Ford\n \nInformation about how to access the meeting is made available in the email announcements. If you would like to be added to our email list and receive meeting announcements\, as well as updates about the Institute\, please click here.
URL:https://cobb.institute/event/john-cobb-friends-gathering-2020-07-14/
LOCATION:Online Event
ATTACH;FMTTYPE=image/jpeg:https://cobb.institute/wp-content/uploads/2020/05/Cobb-Friends-featured-image.jpg
ORGANIZER;CN="Cobb Institute":MAILTO:events@cobb.institute
END:VEVENT
BEGIN:VEVENT
DTSTART;TZID=America/Los_Angeles:20200707T100000
DTEND;TZID=America/Los_Angeles:20200707T120000
DTSTAMP:20260421T204350
CREATED:20200622T232730Z
LAST-MODIFIED:20220216T173206Z
UID:10000065-1594116000-1594123200@cobb.institute
SUMMARY:John Cobb & Friends Gathering - Robert Mesle
DESCRIPTION:Topic: An Interview with Robert Mesle \nPresenter: Jay McDaniel will interview Robert Mesle
URL:https://cobb.institute/event/john-cobb-friends-gathering-2020-07-07/
LOCATION:Online Event
CATEGORIES:Cobb & Friends
ATTACH;FMTTYPE=image/jpeg:https://cobb.institute/wp-content/uploads/2020/05/Cobb-Friends-featured-image.jpg
ORGANIZER;CN="Cobb Institute":MAILTO:events@cobb.institute
END:VEVENT
BEGIN:VEVENT
DTSTART;TZID=America/Los_Angeles:20200630T100000
DTEND;TZID=America/Los_Angeles:20200630T120000
DTSTAMP:20260421T204350
CREATED:20200622T232109Z
LAST-MODIFIED:20220216T173148Z
UID:10000064-1593511200-1593518400@cobb.institute
SUMMARY:John Cobb & Friends Gathering - Richard Livingston
DESCRIPTION:Topic: Robert Mesle’s Process-Relational Philosophy\, Chapter 6 \nPresenter: Richard Livingston \nInformation about how to access the meeting is made available via email messages. If you would like to be added to our email list and receive meeting announcements\, as well as updates about the Institute\, please click here.
URL:https://cobb.institute/event/john-cobb-friends-gathering-2020-06-30/
LOCATION:Online Event
CATEGORIES:Cobb & Friends
ATTACH;FMTTYPE=image/jpeg:https://cobb.institute/wp-content/uploads/2020/05/Cobb-Friends-featured-image.jpg
ORGANIZER;CN="Cobb Institute":MAILTO:events@cobb.institute
END:VEVENT
BEGIN:VEVENT
DTSTART;TZID=America/Los_Angeles:20200623T100000
DTEND;TZID=America/Los_Angeles:20200623T120000
DTSTAMP:20260421T204350
CREATED:20200622T231514Z
LAST-MODIFIED:20220216T173045Z
UID:10000063-1592906400-1592913600@cobb.institute
SUMMARY:John Cobb & Friends Gathering - Farhan Shaw
DESCRIPTION:Topic: Islamic Process Theology\n(Read Article) \nPresenter: Farhan Shaw \nInformation about how to access the meeting is made available via email messages. If you would like to be added to our email list and receive meeting announcements\, as well as updates about the Institute\, please click here.
URL:https://cobb.institute/event/john-cobb-friends-gathering-2020-06-23/
LOCATION:Online Event
CATEGORIES:Cobb & Friends
ATTACH;FMTTYPE=image/jpeg:https://cobb.institute/wp-content/uploads/2020/05/Cobb-Friends-featured-image.jpg
ORGANIZER;CN="Cobb Institute":MAILTO:events@cobb.institute
END:VEVENT
END:VCALENDAR